BEGIN:VCALENDAR
VERSION:2.0
PRODID:-//wp-events-plugin.com//7.2.1//EN
TZID:Europe/Stockholm
X-WR-TIMEZONE:Europe/Stockholm
BEGIN:VEVENT
UID:10@nackagk.se
DTSTART;TZID=Europe/Stockholm:20230504T180000
DTEND;TZID=Europe/Stockholm:20230831T191500
DTSTAMP:20230522T110706Z
URL:https://nackagk.se/events/tjejgrupp/
SUMMARY:Tjejgrupp - Fullbokad
DESCRIPTION:Ålder 9-14 år\nTid: 18:00-19:15\nMax 12st\n\nTillfällen:\nV
 år: 4/5\, 11/5\, 18/5\, 25/5\, 1/6\nHöst: 3/8\, 10/8\, 17/8\, 24/8\, 31/
 8\n\n&nbsp\;
ATTACH;FMTTYPE=image/jpeg:https://nackagk.se/wp-content/uploads/2023/01/na
 ckagk_img_12.jpg
CATEGORIES:Juniorträning
END:VEVENT
BEGIN:VTIMEZONE
TZID:Europe/Stockholm
X-LIC-LOCATION:Europe/Stockholm
BEGIN:DAYLIGHT
DTSTART:20230326T030000
TZOFFSETFROM:+0100
TZOFFSETTO:+0200
TZNAME:CEST
END:DAYLIGHT
END:VTIMEZONE
END:VCALENDAR