BEGIN:VCALENDAR
VERSION:2.0
PRODID:-//wp-events-plugin.com//7.2.1//EN
TZID:Europe/Stockholm
X-WR-TIMEZONE:Europe/Stockholm
BEGIN:VEVENT
UID:32@nackagk.se
DTSTART;TZID=Europe/Stockholm:20230619T173000
DTEND;TZID=Europe/Stockholm:20230619T203000
DTSTAMP:20230531T122419Z
URL:https://nackagk.se/events/svingtraning-narspelstraning-hcp-37-54/
SUMMARY:Svingträning & Närspelsträning Hcp 37-54
DESCRIPTION:Svingträning &amp\; Närspelsträning Hcp 37-54\nSamling bortr
 e rangen.\n\nVi går igenom grepp\, sving\, teknik\, uppställning/siktöv
 ningar\, balans och utförande.\n\nTid: 17:30-19:00 Rangen\n\nTid 19:15-20
 :30 Övningsområdet\n\n12 platser\n\nVarmt Välkomna\n\nRaymond\n\nOBS! A
 ll kommunikation sker via vår mail: info@nackagk.se så lägg till oss so
 m betrodd användare (eller kontrollera skräpposten)
ATTACH;FMTTYPE=image/jpeg:https://nackagk.se/wp-content/uploads/2023/02/12
 fairway_mellan.jpg
CATEGORIES:Kurser
END:VEVENT
BEGIN:VTIMEZONE
TZID:Europe/Stockholm
X-LIC-LOCATION:Europe/Stockholm
BEGIN:DAYLIGHT
DTSTART:20230326T030000
TZOFFSETFROM:+0100
TZOFFSETTO:+0200
TZNAME:CEST
END:DAYLIGHT
END:VTIMEZONE
END:VCALENDAR